BEGIN:VCALENDAR
PRODID:-//Microsoft Corporation//Outlook MIMEDIR//EN
VERSION:2.0
METHOD:PUBLISH
BEGIN:VEVENT
DTSTART:20260420T110000
DTEND:20260420T120000
DESCRIPTION:Technical Committee Mtg. #70
LOCATION:Virtual in MS Teams Call in 1-719-569-5048 ID 235 404 213#
SUMMARY:Arapahoe County Transportation Forum
CATEGORIES:MEETING
END:VEVENT
END:VCALENDAR
