BEGIN:VCALENDAR
PRODID:-//Microsoft Corporation//Outlook MIMEDIR//EN
VERSION:2.0
METHOD:PUBLISH
BEGIN:VEVENT
DTSTART:20260520T140000
DTEND:20260520T150000
DESCRIPTION:Informal Study Session
LOCATION:Open Space Building - Bijou Room
SUMMARY:Arapahoe County Board of Health
CATEGORIES:MEETING
END:VEVENT
END:VCALENDAR
