BEGIN:VCALENDAR
PRODID:-//Microsoft Corporation//Outlook MIMEDIR//EN
VERSION:2.0
METHOD:PUBLISH
BEGIN:VEVENT
DTSTART:20260514T130000
DTEND:20260514T140000
DESCRIPTION:
LOCATION:TBD
SUMMARY:Arapahoe County Regional Opioid Council
CATEGORIES:MEETING
END:VEVENT
END:VCALENDAR
