BEGIN:VCALENDAR
PRODID:-//Microsoft Corporation//Outlook MIMEDIR//EN
VERSION:2.0
METHOD:PUBLISH
BEGIN:VEVENT
DTSTART:20260415T150000
DTEND:20260415T160000
DESCRIPTION:
LOCATION:Lima Plaza Campus 6954 South Lima Street, Centennial, CO 80112
SUMMARY:Community Corrections Board
CATEGORIES:MEETING
END:VEVENT
END:VCALENDAR
